BEGIN:VCALENDAR
VERSION:2.0
PRODID:-//Lancaster County Career &amp; Technology Center - ECPv6.15.20//NONSGML v1.0//EN
CALSCALE:GREGORIAN
METHOD:PUBLISH
X-ORIGINAL-URL:https://lancasterctc.edu
X-WR-CALDESC:Events for Lancaster County Career &amp; Technology Center
REFRESH-INTERVAL;VALUE=DURATION:PT1H
X-Robots-Tag:noindex
X-PUBLISHED-TTL:PT1H
BEGIN:VTIMEZONE
TZID:America/New_York
BEGIN:DAYLIGHT
TZOFFSETFROM:-0500
TZOFFSETTO:-0400
TZNAME:EDT
DTSTART:20260308T070000
END:DAYLIGHT
BEGIN:STANDARD
TZOFFSETFROM:-0400
TZOFFSETTO:-0500
TZNAME:EST
DTSTART:20261101T060000
END:STANDARD
BEGIN:DAYLIGHT
TZOFFSETFROM:-0500
TZOFFSETTO:-0400
TZNAME:EDT
DTSTART:20270314T070000
END:DAYLIGHT
BEGIN:STANDARD
TZOFFSETFROM:-0400
TZOFFSETTO:-0500
TZNAME:EST
DTSTART:20271107T060000
END:STANDARD
BEGIN:DAYLIGHT
TZOFFSETFROM:-0500
TZOFFSETTO:-0400
TZNAME:EDT
DTSTART:20280312T070000
END:DAYLIGHT
BEGIN:STANDARD
TZOFFSETFROM:-0400
TZOFFSETTO:-0500
TZNAME:EST
DTSTART:20281105T060000
END:STANDARD
END:VTIMEZONE
BEGIN:VEVENT
DTSTART;TZID=America/New_York:20270101T080000
DTEND;TZID=America/New_York:20270101T170000
DTSTAMP:20260419T163838
CREATED:20260302T181425Z
LAST-MODIFIED:20260302T181425Z
UID:10000115-1798790400-1798822800@lancasterctc.edu
SUMMARY:Winter Break (School and Offices Closed)
DESCRIPTION:
URL:https://lancasterctc.edu/calendar-events/winter-break-school-and-offices-closed-9/
CATEGORIES:High School
END:VEVENT
BEGIN:VEVENT
DTSTART;TZID=America/New_York:20270102T080000
DTEND;TZID=America/New_York:20270102T170000
DTSTAMP:20260419T163838
CREATED:20260302T181506Z
LAST-MODIFIED:20260302T181506Z
UID:10000116-1798876800-1798909200@lancasterctc.edu
SUMMARY:Winter Break (School and Offices Closed)
DESCRIPTION:
URL:https://lancasterctc.edu/calendar-events/winter-break-school-and-offices-closed-10/
CATEGORIES:High School
END:VEVENT
BEGIN:VEVENT
DTSTART;TZID=America/New_York:20270103T080000
DTEND;TZID=America/New_York:20270103T170000
DTSTAMP:20260419T163838
CREATED:20260302T181528Z
LAST-MODIFIED:20260302T181528Z
UID:10000117-1798963200-1798995600@lancasterctc.edu
SUMMARY:Winter Break (School and Offices Closed)
DESCRIPTION:
URL:https://lancasterctc.edu/calendar-events/winter-break-school-and-offices-closed-11/
CATEGORIES:High School
END:VEVENT
BEGIN:VEVENT
DTSTART;TZID=America/New_York:20270118T080000
DTEND;TZID=America/New_York:20270118T170000
DTSTAMP:20260419T163838
CREATED:20260302T181617Z
LAST-MODIFIED:20260302T181617Z
UID:10000118-1800259200-1800291600@lancasterctc.edu
SUMMARY:Martin Luther King\, Jr.\, Day (School and Offices Closed)
DESCRIPTION:
URL:https://lancasterctc.edu/calendar-events/martin-luther-king-jr-day-school-and-offices-closed/
CATEGORIES:High School
END:VEVENT
END:VCALENDAR