BEGIN:VCALENDAR
VERSION:2.0
PRODID:-//Lancaster County Career &amp; Technology Center - ECPv6.15.20//NONSGML v1.0//EN
CALSCALE:GREGORIAN
METHOD:PUBLISH
X-WR-CALNAME:Lancaster County Career &amp; Technology Center
X-ORIGINAL-URL:https://lancasterctc.edu
X-WR-CALDESC:Events for Lancaster County Career &amp; Technology Center
REFRESH-INTERVAL;VALUE=DURATION:PT1H
X-Robots-Tag:noindex
X-PUBLISHED-TTL:PT1H
BEGIN:VTIMEZONE
TZID:America/New_York
BEGIN:DAYLIGHT
TZOFFSETFROM:-0500
TZOFFSETTO:-0400
TZNAME:EDT
DTSTART:20230312T070000
END:DAYLIGHT
BEGIN:STANDARD
TZOFFSETFROM:-0400
TZOFFSETTO:-0500
TZNAME:EST
DTSTART:20231105T060000
END:STANDARD
BEGIN:DAYLIGHT
TZOFFSETFROM:-0500
TZOFFSETTO:-0400
TZNAME:EDT
DTSTART:20240310T070000
END:DAYLIGHT
BEGIN:STANDARD
TZOFFSETFROM:-0400
TZOFFSETTO:-0500
TZNAME:EST
DTSTART:20241103T060000
END:STANDARD
BEGIN:DAYLIGHT
TZOFFSETFROM:-0500
TZOFFSETTO:-0400
TZNAME:EDT
DTSTART:20250309T070000
END:DAYLIGHT
BEGIN:STANDARD
TZOFFSETFROM:-0400
TZOFFSETTO:-0500
TZNAME:EST
DTSTART:20251102T060000
END:STANDARD
END:VTIMEZONE
BEGIN:VEVENT
DTSTART;TZID=America/New_York:20241127T080000
DTEND;TZID=America/New_York:20241127T170000
DTSTAMP:20260419T223337
CREATED:20240807T164114Z
LAST-MODIFIED:20240807T164114Z
UID:10000009-1732694400-1732726800@lancasterctc.edu
SUMMARY:In-service\, Secondary
DESCRIPTION:High School Programs Closed\, Offices Open
URL:https://lancasterctc.edu/calendar-events/in-service-secondary/
CATEGORIES:High School
END:VEVENT
BEGIN:VEVENT
DTSTART;TZID=America/New_York:20241112T170000
DTEND;TZID=America/New_York:20241112T190000
DTSTAMP:20260419T223337
CREATED:20241101T195145Z
LAST-MODIFIED:20241101T195145Z
UID:10000027-1731430800-1731438000@lancasterctc.edu
SUMMARY:Practical Nursing Open House
DESCRIPTION:
URL:https://lancasterctc.edu/calendar-events/practical-nursing-open-house-2/
LOCATION:Health Sciences Campus\, 422 Beaver Valley Pike\, Willow Street\, PA\, 17584\, United States
CATEGORIES:Practical Nursing
END:VEVENT
BEGIN:VEVENT
DTSTART;TZID=America/New_York:20241014T080000
DTEND;TZID=America/New_York:20241014T170000
DTSTAMP:20260419T223337
CREATED:20240807T165148Z
LAST-MODIFIED:20240807T165148Z
UID:10000023-1728892800-1728925200@lancasterctc.edu
SUMMARY:In-Service\, Practical Nursing
DESCRIPTION:
URL:https://lancasterctc.edu/calendar-events/in-service-practical-nursing/
CATEGORIES:Practical Nursing
END:VEVENT
BEGIN:VEVENT
DTSTART;TZID=America/New_York:20241014T080000
DTEND;TZID=America/New_York:20241014T170000
DTSTAMP:20260419T223337
CREATED:20240807T130616Z
LAST-MODIFIED:20240807T164136Z
UID:10000008-1728892800-1728925200@lancasterctc.edu
SUMMARY:In-service\, Secondary
DESCRIPTION:High School Programs closed\, offices open
URL:https://lancasterctc.edu/calendar-events/inservice-high-school/
CATEGORIES:High School
END:VEVENT
BEGIN:VEVENT
DTSTART;TZID=America/New_York:20241011T000000
DTEND;TZID=America/New_York:20241011T235959
DTSTAMP:20260419T223337
CREATED:20241008T143329Z
LAST-MODIFIED:20241008T143928Z
UID:10000026-1728604800-1728691199@lancasterctc.edu
SUMMARY:Act 80 (In-Service)
DESCRIPTION:
URL:https://lancasterctc.edu/calendar-events/act-80-in-service/
CATEGORIES:High School
END:VEVENT
BEGIN:VEVENT
DTSTART;TZID=America/New_York:20240910T170000
DTEND;TZID=America/New_York:20240910T190000
DTSTAMP:20260419T223337
CREATED:20240711T174751Z
LAST-MODIFIED:20240711T174751Z
UID:10000001-1725987600-1725994800@lancasterctc.edu
SUMMARY:Practical Nursing Open House
DESCRIPTION:5-7 PM \nLCCTC Health Science Campus  \n422 Beaver Valley Pike\, Willow Street\, PA 17584 \nCall 717-464-7063 or email pn***@**********tc.edu for more information about the event.
URL:https://lancasterctc.edu/calendar-events/practical-nursing-open-house/
LOCATION:Health Sciences Campus\, 422 Beaver Valley Pike\, Willow Street\, PA\, 17584\, United States
CATEGORIES:Practical Nursing
END:VEVENT
BEGIN:VEVENT
DTSTART;TZID=America/New_York:20240902T080000
DTEND;TZID=America/New_York:20240902T170000
DTSTAMP:20260419T223337
CREATED:20240807T130513Z
LAST-MODIFIED:20240807T130513Z
UID:10000007-1725264000-1725296400@lancasterctc.edu
SUMMARY:Labor Day\, All Campuses and offices closed
DESCRIPTION:
URL:https://lancasterctc.edu/calendar-events/labor-day-all-campuses-and-offices-closed/
CATEGORIES:High School,Higher Education,Practical Nursing
END:VEVENT
BEGIN:VEVENT
DTSTART;TZID=America/New_York:20240830T080000
DTEND;TZID=America/New_York:20240830T170000
DTSTAMP:20260419T223337
CREATED:20240807T130433Z
LAST-MODIFIED:20240807T130433Z
UID:10000006-1725004800-1725037200@lancasterctc.edu
SUMMARY:High School Closed\, Offices Open
DESCRIPTION:
URL:https://lancasterctc.edu/calendar-events/high-school-closed-offices-open/
CATEGORIES:High School
END:VEVENT
BEGIN:VEVENT
DTSTART;TZID=America/New_York:20240822T080000
DTEND;TZID=America/New_York:20240822T170000
DTSTAMP:20260419T223337
CREATED:20240807T130329Z
LAST-MODIFIED:20240807T130329Z
UID:10000005-1724313600-1724346000@lancasterctc.edu
SUMMARY:First Day of School - High School
DESCRIPTION:
URL:https://lancasterctc.edu/calendar-events/first-day-of-school-high-school/
CATEGORIES:High School
END:VEVENT
BEGIN:VEVENT
DTSTART;TZID=America/New_York:20240821T080000
DTEND;TZID=America/New_York:20240821T170000
DTSTAMP:20260419T223337
CREATED:20240807T130228Z
LAST-MODIFIED:20240807T130239Z
UID:10000004-1724227200-1724259600@lancasterctc.edu
SUMMARY:InService\, Secondary
DESCRIPTION:
URL:https://lancasterctc.edu/calendar-events/inservice-secondary-2/
CATEGORIES:High School
END:VEVENT
BEGIN:VEVENT
DTSTART;TZID=America/New_York:20240820T080000
DTEND;TZID=America/New_York:20240820T170000
DTSTAMP:20260419T223337
CREATED:20240807T130159Z
LAST-MODIFIED:20240807T130211Z
UID:10000003-1724140800-1724173200@lancasterctc.edu
SUMMARY:InService - Institutional
DESCRIPTION:
URL:https://lancasterctc.edu/calendar-events/inservice-institutional/
END:VEVENT
BEGIN:VEVENT
DTSTART;TZID=America/New_York:20240819T080000
DTEND;TZID=America/New_York:20240819T170000
DTSTAMP:20260419T223337
CREATED:20240807T130113Z
LAST-MODIFIED:20240807T130113Z
UID:10000002-1724054400-1724086800@lancasterctc.edu
SUMMARY:InService - Secondary
DESCRIPTION:
URL:https://lancasterctc.edu/calendar-events/inservice-secondary/
CATEGORIES:High School
END:VEVENT
END:VCALENDAR