BEGIN:VCALENDAR
VERSION:2.0
PRODID:-//Lancaster County Career &amp; Technology Center - ECPv6.15.20//NONSGML v1.0//EN
CALSCALE:GREGORIAN
METHOD:PUBLISH
X-WR-CALNAME:Lancaster County Career &amp; Technology Center
X-ORIGINAL-URL:https://lancasterctc.edu
X-WR-CALDESC:Events for Lancaster County Career &amp; Technology Center
REFRESH-INTERVAL;VALUE=DURATION:PT1H
X-Robots-Tag:noindex
X-PUBLISHED-TTL:PT1H
BEGIN:VTIMEZONE
TZID:America/New_York
BEGIN:DAYLIGHT
TZOFFSETFROM:-0500
TZOFFSETTO:-0400
TZNAME:EDT
DTSTART:20230312T070000
END:DAYLIGHT
BEGIN:STANDARD
TZOFFSETFROM:-0400
TZOFFSETTO:-0500
TZNAME:EST
DTSTART:20231105T060000
END:STANDARD
BEGIN:DAYLIGHT
TZOFFSETFROM:-0500
TZOFFSETTO:-0400
TZNAME:EDT
DTSTART:20240310T070000
END:DAYLIGHT
BEGIN:STANDARD
TZOFFSETFROM:-0400
TZOFFSETTO:-0500
TZNAME:EST
DTSTART:20241103T060000
END:STANDARD
BEGIN:DAYLIGHT
TZOFFSETFROM:-0500
TZOFFSETTO:-0400
TZNAME:EDT
DTSTART:20250309T070000
END:DAYLIGHT
BEGIN:STANDARD
TZOFFSETFROM:-0400
TZOFFSETTO:-0500
TZNAME:EST
DTSTART:20251102T060000
END:STANDARD
BEGIN:DAYLIGHT
TZOFFSETFROM:-0500
TZOFFSETTO:-0400
TZNAME:EDT
DTSTART:20260308T070000
END:DAYLIGHT
BEGIN:STANDARD
TZOFFSETFROM:-0400
TZOFFSETTO:-0500
TZNAME:EST
DTSTART:20261101T060000
END:STANDARD
END:VTIMEZONE
BEGIN:VEVENT
DTSTART;TZID=America/New_York:20251013T080000
DTEND;TZID=America/New_York:20251013T170000
DTSTAMP:20260419T145617
CREATED:20250812T185346Z
LAST-MODIFIED:20250812T185346Z
UID:10000068-1760342400-1760374800@lancasterctc.edu
SUMMARY:In-Service - Secondary
DESCRIPTION:
URL:https://lancasterctc.edu/calendar-events/in-service-secondary-5/
CATEGORIES:High School
END:VEVENT
BEGIN:VEVENT
DTSTART;TZID=America/New_York:20251013T080000
DTEND;TZID=America/New_York:20251013T170000
DTSTAMP:20260419T145617
CREATED:20250812T165124Z
LAST-MODIFIED:20250812T165124Z
UID:10000054-1760342400-1760374800@lancasterctc.edu
SUMMARY:In-Service Day - Practical Nursing
DESCRIPTION:
URL:https://lancasterctc.edu/calendar-events/in-service-day-practical-nursing-2/
LOCATION:Health Sciences Campus\, 422 Beaver Valley Pike\, Willow Street\, PA\, 17584\, United States
CATEGORIES:Practical Nursing
END:VEVENT
BEGIN:VEVENT
DTSTART;TZID=America/New_York:20251010T080000
DTEND;TZID=America/New_York:20251010T170000
DTSTAMP:20260419T145617
CREATED:20250812T185322Z
LAST-MODIFIED:20250812T185322Z
UID:10000067-1760083200-1760115600@lancasterctc.edu
SUMMARY:In-Service - Secondary
DESCRIPTION:
URL:https://lancasterctc.edu/calendar-events/in-service-secondary-4/
CATEGORIES:High School
END:VEVENT
BEGIN:VEVENT
DTSTART;TZID=America/New_York:20250901T080000
DTEND;TZID=America/New_York:20250901T170000
DTSTAMP:20260419T145617
CREATED:20250812T165046Z
LAST-MODIFIED:20250812T165217Z
UID:10000053-1756713600-1756746000@lancasterctc.edu
SUMMARY:Holiday - Labor Day
DESCRIPTION:
URL:https://lancasterctc.edu/calendar-events/holiday-labor-day/
CATEGORIES:High School,Practical Nursing
END:VEVENT
BEGIN:VEVENT
DTSTART;TZID=America/New_York:20250829T080000
DTEND;TZID=America/New_York:20250829T170000
DTSTAMP:20260419T145617
CREATED:20250812T185252Z
LAST-MODIFIED:20250812T185252Z
UID:10000066-1756454400-1756486800@lancasterctc.edu
SUMMARY:School Closed\, Offices Open
DESCRIPTION:
URL:https://lancasterctc.edu/calendar-events/school-closed-offices-open/
CATEGORIES:High School
END:VEVENT
BEGIN:VEVENT
DTSTART;TZID=America/New_York:20250820T080000
DTEND;TZID=America/New_York:20250820T170000
DTSTAMP:20260419T145617
CREATED:20250812T185226Z
LAST-MODIFIED:20250812T185226Z
UID:10000065-1755676800-1755709200@lancasterctc.edu
SUMMARY:First Day of School
DESCRIPTION:
URL:https://lancasterctc.edu/calendar-events/first-day-of-school/
CATEGORIES:High School
END:VEVENT
BEGIN:VEVENT
DTSTART;TZID=America/New_York:20250819T080000
DTEND;TZID=America/New_York:20250819T170000
DTSTAMP:20260419T145617
CREATED:20250812T185153Z
LAST-MODIFIED:20250812T185153Z
UID:10000064-1755590400-1755622800@lancasterctc.edu
SUMMARY:In-Service - Secondary
DESCRIPTION:
URL:https://lancasterctc.edu/calendar-events/in-service-secondary-3/
CATEGORIES:High School
END:VEVENT
BEGIN:VEVENT
DTSTART;TZID=America/New_York:20250818T080000
DTEND;TZID=America/New_York:20250818T170000
DTSTAMP:20260419T145617
CREATED:20250812T164951Z
LAST-MODIFIED:20250812T165238Z
UID:10000052-1755504000-1755536400@lancasterctc.edu
SUMMARY:In-Service Day - Institution
DESCRIPTION:
URL:https://lancasterctc.edu/calendar-events/in-service-day-institution/
CATEGORIES:High School,Practical Nursing
END:VEVENT
BEGIN:VEVENT
DTSTART;TZID=America/New_York:20250812T170000
DTEND;TZID=America/New_York:20250812T190000
DTSTAMP:20260419T145617
CREATED:20250708T184442Z
LAST-MODIFIED:20250708T184442Z
UID:10000032-1755018000-1755025200@lancasterctc.edu
SUMMARY:Practical Nursing Open House
DESCRIPTION:
URL:https://lancasterctc.edu/calendar-events/practical-nursing-open-house-6/2025-08-12/
LOCATION:Health Sciences Campus\, 422 Beaver Valley Pike\, Willow Street\, PA\, 17584\, United States
CATEGORIES:Practical Nursing
END:VEVENT
BEGIN:VEVENT
DTSTART;TZID=America/New_York:20250619T080000
DTEND;TZID=America/New_York:20250619T170000
DTSTAMP:20260419T145617
CREATED:20240807T165049Z
LAST-MODIFIED:20240807T165049Z
UID:10000022-1750320000-1750352400@lancasterctc.edu
SUMMARY:Juneteenth
DESCRIPTION:All programs and offices closed
URL:https://lancasterctc.edu/calendar-events/juneteenth/
CATEGORIES:Higher Education,Practical Nursing
END:VEVENT
BEGIN:VEVENT
DTSTART;TZID=America/New_York:20250603T080000
DTEND;TZID=America/New_York:20250603T170000
DTSTAMP:20260419T145617
CREATED:20250430T161420Z
LAST-MODIFIED:20250430T161500Z
UID:10000031-1748937600-1748970000@lancasterctc.edu
SUMMARY:Last Day of School - High School Programs
DESCRIPTION:
URL:https://lancasterctc.edu/calendar-events/last-day-of-school-high-school-programs-2/
CATEGORIES:High School
END:VEVENT
BEGIN:VEVENT
DTSTART;TZID=America/New_York:20250602T080000
DTEND;TZID=America/New_York:20250602T170000
DTSTAMP:20260419T145617
CREATED:20240807T165017Z
LAST-MODIFIED:20240807T165017Z
UID:10000021-1748851200-1748883600@lancasterctc.edu
SUMMARY:In-Service\, Flexible
DESCRIPTION:
URL:https://lancasterctc.edu/calendar-events/in-service-flexible/
CATEGORIES:High School,Higher Education,Practical Nursing
END:VEVENT
BEGIN:VEVENT
DTSTART;TZID=America/New_York:20250530T080000
DTEND;TZID=America/New_York:20250530T170000
DTSTAMP:20260419T145617
CREATED:20240807T164948Z
LAST-MODIFIED:20240807T164948Z
UID:10000020-1748592000-1748624400@lancasterctc.edu
SUMMARY:In-service\, Institutional
DESCRIPTION:
URL:https://lancasterctc.edu/calendar-events/in-service-institutional/
CATEGORIES:High School,Higher Education,Practical Nursing
END:VEVENT
BEGIN:VEVENT
DTSTART;TZID=America/New_York:20250529T080000
DTEND;TZID=America/New_York:20250529T170000
DTSTAMP:20260419T145617
CREATED:20240807T164921Z
LAST-MODIFIED:20250430T161242Z
UID:10000019-1748505600-1748538000@lancasterctc.edu
SUMMARY:Last Day of In-Person Instruction - High School Programs
DESCRIPTION:
URL:https://lancasterctc.edu/calendar-events/last-day-of-school-high-school-programs/
CATEGORIES:High School
END:VEVENT
BEGIN:VEVENT
DTSTART;TZID=America/New_York:20250527T080000
DTEND;TZID=America/New_York:20250527T170000
DTSTAMP:20260419T145617
CREATED:20240807T164849Z
LAST-MODIFIED:20240807T164849Z
UID:10000018-1748332800-1748365200@lancasterctc.edu
SUMMARY:High School Certificates & Awards Ceremonies
DESCRIPTION:
URL:https://lancasterctc.edu/calendar-events/high-school-certificates-awards-ceremonies/
CATEGORIES:High School
END:VEVENT
BEGIN:VEVENT
DTSTART;TZID=America/New_York:20250526T080000
DTEND;TZID=America/New_York:20250526T170000
DTSTAMP:20260419T145617
CREATED:20240807T164814Z
LAST-MODIFIED:20250423T182955Z
UID:10000017-1748246400-1748278800@lancasterctc.edu
SUMMARY:Memorial Day
DESCRIPTION:All programs and offices closed
URL:https://lancasterctc.edu/calendar-events/memorial-day/
CATEGORIES:High School,Higher Education,Practical Nursing
END:VEVENT
BEGIN:VEVENT
DTSTART;TZID=America/New_York:20250513T170000
DTEND;TZID=America/New_York:20250513T190000
DTSTAMP:20260419T145617
CREATED:20241101T195534Z
LAST-MODIFIED:20241101T195600Z
UID:10000030-1747155600-1747162800@lancasterctc.edu
SUMMARY:Practical Nursing Open House
DESCRIPTION:
URL:https://lancasterctc.edu/calendar-events/practical-nursing-open-house-5/
LOCATION:Health Sciences Campus\, 422 Beaver Valley Pike\, Willow Street\, PA\, 17584\, United States
CATEGORIES:Practical Nursing
END:VEVENT
BEGIN:VEVENT
DTSTART;TZID=America/New_York:20250507T080000
DTEND;TZID=America/New_York:20250507T170000
DTSTAMP:20260419T145617
CREATED:20240807T165529Z
LAST-MODIFIED:20240807T165529Z
UID:10000025-1746604800-1746637200@lancasterctc.edu
SUMMARY:In-Service\, Practical Nursing
DESCRIPTION:
URL:https://lancasterctc.edu/calendar-events/in-service-practical-nursing-2/
CATEGORIES:Practical Nursing
END:VEVENT
BEGIN:VEVENT
DTSTART;TZID=America/New_York:20250421T080000
DTEND;TZID=America/New_York:20250421T170000
DTSTAMP:20260419T145617
CREATED:20240807T164739Z
LAST-MODIFIED:20241210T142032Z
UID:10000016-1745222400-1745254800@lancasterctc.edu
SUMMARY:Act 80/In-service Day
DESCRIPTION:No School for High School Students
URL:https://lancasterctc.edu/calendar-events/high-school-closed-offices-open-2/
CATEGORIES:High School
END:VEVENT
BEGIN:VEVENT
DTSTART;TZID=America/New_York:20250418T080000
DTEND;TZID=America/New_York:20250418T170000
DTSTAMP:20260419T145617
CREATED:20240807T164658Z
LAST-MODIFIED:20240807T165311Z
UID:10000015-1744963200-1744995600@lancasterctc.edu
SUMMARY:Spring Break
DESCRIPTION:Offices and Programs Closed
URL:https://lancasterctc.edu/calendar-events/spring-break/
CATEGORIES:High School,Higher Education,Practical Nursing
END:VEVENT
BEGIN:VEVENT
DTSTART;TZID=America/New_York:20250311T170000
DTEND;TZID=America/New_York:20250311T190000
DTSTAMP:20260419T145617
CREATED:20241101T195435Z
LAST-MODIFIED:20241101T195435Z
UID:10000029-1741712400-1741719600@lancasterctc.edu
SUMMARY:Practical Nursing Open House
DESCRIPTION:
URL:https://lancasterctc.edu/calendar-events/practical-nursing-open-house-4/
LOCATION:Health Sciences Campus\, 422 Beaver Valley Pike\, Willow Street\, PA\, 17584\, United States
CATEGORIES:Practical Nursing
END:VEVENT
BEGIN:VEVENT
DTSTART;TZID=America/New_York:20250214T080000
DTEND;TZID=America/New_York:20250217T170000
DTSTAMP:20260419T145617
CREATED:20240807T164604Z
LAST-MODIFIED:20240807T165409Z
UID:10000014-1739520000-1739811600@lancasterctc.edu
SUMMARY:President's Day Break
DESCRIPTION:All Programs Closed
URL:https://lancasterctc.edu/calendar-events/presidents-day-break/
CATEGORIES:High School,Higher Education,Practical Nursing
END:VEVENT
BEGIN:VEVENT
DTSTART;TZID=America/New_York:20250120T080000
DTEND;TZID=America/New_York:20250120T170000
DTSTAMP:20260419T145617
CREATED:20240807T165453Z
LAST-MODIFIED:20240807T165453Z
UID:10000024-1737360000-1737392400@lancasterctc.edu
SUMMARY:In-service Day\, Practical Nursing
DESCRIPTION:
URL:https://lancasterctc.edu/calendar-events/in-service-day-practical-nursing/
CATEGORIES:Practical Nursing
END:VEVENT
BEGIN:VEVENT
DTSTART;TZID=America/New_York:20250120T080000
DTEND;TZID=America/New_York:20250120T170000
DTSTAMP:20260419T145617
CREATED:20240807T164513Z
LAST-MODIFIED:20240807T164513Z
UID:10000013-1737360000-1737392400@lancasterctc.edu
SUMMARY:In-service\, Secondary
DESCRIPTION:High School Programs Closed\, Offices Open
URL:https://lancasterctc.edu/calendar-events/in-service-secondary-2/
CATEGORIES:High School
END:VEVENT
BEGIN:VEVENT
DTSTART;TZID=America/New_York:20250114T170000
DTEND;TZID=America/New_York:20250114T190000
DTSTAMP:20260419T145617
CREATED:20241101T195249Z
LAST-MODIFIED:20241101T195249Z
UID:10000028-1736874000-1736881200@lancasterctc.edu
SUMMARY:Practical Nursing Open House
DESCRIPTION:
URL:https://lancasterctc.edu/calendar-events/practical-nursing-open-house-3/
LOCATION:Health Sciences Campus\, 422 Beaver Valley Pike\, Willow Street\, PA\, 17584\, United States
CATEGORIES:Practical Nursing
END:VEVENT
BEGIN:VEVENT
DTSTART;TZID=America/New_York:20241224T080000
DTEND;TZID=America/New_York:20250101T170000
DTSTAMP:20260419T145617
CREATED:20240807T164434Z
LAST-MODIFIED:20240807T165235Z
UID:10000012-1735027200-1735750800@lancasterctc.edu
SUMMARY:Winter Break
DESCRIPTION:
URL:https://lancasterctc.edu/calendar-events/winter-break/
CATEGORIES:High School,Higher Education,Practical Nursing
END:VEVENT
BEGIN:VEVENT
DTSTART;TZID=America/New_York:20241223T080000
DTEND;TZID=America/New_York:20241223T170000
DTSTAMP:20260419T145617
CREATED:20240807T164344Z
LAST-MODIFIED:20240807T164344Z
UID:10000011-1734940800-1734973200@lancasterctc.edu
SUMMARY:High School Programs Closed
DESCRIPTION:School offices open
URL:https://lancasterctc.edu/calendar-events/high-school-programs-closed/
CATEGORIES:High School
END:VEVENT
BEGIN:VEVENT
DTSTART;TZID=America/New_York:20241128T080000
DTEND;TZID=America/New_York:20241202T170000
DTSTAMP:20260419T145617
CREATED:20240807T164301Z
LAST-MODIFIED:20240807T164306Z
UID:10000010-1732780800-1733158800@lancasterctc.edu
SUMMARY:Thanksgiving Break
DESCRIPTION:All programs and offices closed
URL:https://lancasterctc.edu/calendar-events/thanksgiving-break/
CATEGORIES:High School,Higher Education,Practical Nursing
END:VEVENT
BEGIN:VEVENT
DTSTART;TZID=America/New_York:20241127T080000
DTEND;TZID=America/New_York:20241127T170000
DTSTAMP:20260419T145617
CREATED:20240807T164114Z
LAST-MODIFIED:20240807T164114Z
UID:10000009-1732694400-1732726800@lancasterctc.edu
SUMMARY:In-service\, Secondary
DESCRIPTION:High School Programs Closed\, Offices Open
URL:https://lancasterctc.edu/calendar-events/in-service-secondary/
CATEGORIES:High School
END:VEVENT
BEGIN:VEVENT
DTSTART;TZID=America/New_York:20241112T170000
DTEND;TZID=America/New_York:20241112T190000
DTSTAMP:20260419T145617
CREATED:20241101T195145Z
LAST-MODIFIED:20241101T195145Z
UID:10000027-1731430800-1731438000@lancasterctc.edu
SUMMARY:Practical Nursing Open House
DESCRIPTION:
URL:https://lancasterctc.edu/calendar-events/practical-nursing-open-house-2/
LOCATION:Health Sciences Campus\, 422 Beaver Valley Pike\, Willow Street\, PA\, 17584\, United States
CATEGORIES:Practical Nursing
END:VEVENT
END:VCALENDAR