BEGIN:VCALENDAR
VERSION:2.0
PRODID:-//Lancaster County Career &amp; Technology Center - ECPv6.15.20//NONSGML v1.0//EN
CALSCALE:GREGORIAN
METHOD:PUBLISH
X-WR-CALNAME:Lancaster County Career &amp; Technology Center
X-ORIGINAL-URL:https://lancasterctc.edu
X-WR-CALDESC:Events for Lancaster County Career &amp; Technology Center
REFRESH-INTERVAL;VALUE=DURATION:PT1H
X-Robots-Tag:noindex
X-PUBLISHED-TTL:PT1H
BEGIN:VTIMEZONE
TZID:America/New_York
BEGIN:DAYLIGHT
TZOFFSETFROM:-0500
TZOFFSETTO:-0400
TZNAME:EDT
DTSTART:20250309T070000
END:DAYLIGHT
BEGIN:STANDARD
TZOFFSETFROM:-0400
TZOFFSETTO:-0500
TZNAME:EST
DTSTART:20251102T060000
END:STANDARD
BEGIN:DAYLIGHT
TZOFFSETFROM:-0500
TZOFFSETTO:-0400
TZNAME:EDT
DTSTART:20260308T070000
END:DAYLIGHT
BEGIN:STANDARD
TZOFFSETFROM:-0400
TZOFFSETTO:-0500
TZNAME:EST
DTSTART:20261101T060000
END:STANDARD
BEGIN:DAYLIGHT
TZOFFSETFROM:-0500
TZOFFSETTO:-0400
TZNAME:EDT
DTSTART:20270314T070000
END:DAYLIGHT
BEGIN:STANDARD
TZOFFSETFROM:-0400
TZOFFSETTO:-0500
TZNAME:EST
DTSTART:20271107T060000
END:STANDARD
BEGIN:DAYLIGHT
TZOFFSETFROM:-0500
TZOFFSETTO:-0400
TZNAME:EDT
DTSTART:20280312T070000
END:DAYLIGHT
BEGIN:STANDARD
TZOFFSETFROM:-0400
TZOFFSETTO:-0500
TZNAME:EST
DTSTART:20281105T060000
END:STANDARD
BEGIN:DAYLIGHT
TZOFFSETFROM:-0500
TZOFFSETTO:-0400
TZNAME:EDT
DTSTART:20290311T070000
END:DAYLIGHT
BEGIN:STANDARD
TZOFFSETFROM:-0400
TZOFFSETTO:-0500
TZNAME:EST
DTSTART:20291104T060000
END:STANDARD
BEGIN:DAYLIGHT
TZOFFSETFROM:-0500
TZOFFSETTO:-0400
TZNAME:EDT
DTSTART:20300310T070000
END:DAYLIGHT
BEGIN:STANDARD
TZOFFSETFROM:-0400
TZOFFSETTO:-0500
TZNAME:EST
DTSTART:20301103T060000
END:STANDARD
BEGIN:DAYLIGHT
TZOFFSETFROM:-0500
TZOFFSETTO:-0400
TZNAME:EDT
DTSTART:20310309T070000
END:DAYLIGHT
BEGIN:STANDARD
TZOFFSETFROM:-0400
TZOFFSETTO:-0500
TZNAME:EST
DTSTART:20311102T060000
END:STANDARD
END:VTIMEZONE
BEGIN:VEVENT
DTSTART;TZID=America/New_York:20260310T170000
DTEND;TZID=America/New_York:20260310T190000
DTSTAMP:20260420T040325
CREATED:20250708T184641Z
LAST-MODIFIED:20250708T184641Z
UID:10000034-1773162000-1773169200@lancasterctc.edu
SUMMARY:Practical Nursing Open House
DESCRIPTION:
URL:https://lancasterctc.edu/calendar-events/practical-nursing-open-house-6-3/
LOCATION:Health Sciences Campus\, 422 Beaver Valley Pike\, Willow Street\, PA\, 17584\, United States
CATEGORIES:Practical Nursing
END:VEVENT
BEGIN:VEVENT
DTSTART;TZID=America/New_York:20260403T080000
DTEND;TZID=America/New_York:20260403T170000
DTSTAMP:20260420T040325
CREATED:20250812T165647Z
LAST-MODIFIED:20250812T165647Z
UID:10000059-1775203200-1775235600@lancasterctc.edu
SUMMARY:Holiday - Spring Break
DESCRIPTION:
URL:https://lancasterctc.edu/calendar-events/holiday-spring-break/
LOCATION:PA
CATEGORIES:High School,Practical Nursing
END:VEVENT
BEGIN:VEVENT
DTSTART;TZID=America/New_York:20260506T080000
DTEND;TZID=America/New_York:20260506T170000
DTSTAMP:20260420T040325
CREATED:20250812T165726Z
LAST-MODIFIED:20250812T165726Z
UID:10000060-1778054400-1778086800@lancasterctc.edu
SUMMARY:In-Service Day - Practical Nursing
DESCRIPTION:
URL:https://lancasterctc.edu/calendar-events/in-service-day-practical-nursing-4/
LOCATION:Health Sciences Campus\, 422 Beaver Valley Pike\, Willow Street\, PA\, 17584\, United States
CATEGORIES:Practical Nursing
END:VEVENT
BEGIN:VEVENT
DTSTART;TZID=America/New_York:20260525T080000
DTEND;TZID=America/New_York:20260525T170000
DTSTAMP:20260420T040325
CREATED:20250812T165804Z
LAST-MODIFIED:20250812T165804Z
UID:10000061-1779696000-1779728400@lancasterctc.edu
SUMMARY:Holiday - Memorial Day
DESCRIPTION:
URL:https://lancasterctc.edu/calendar-events/holiday-memorial-day/
LOCATION:PA
CATEGORIES:High School,Practical Nursing
END:VEVENT
BEGIN:VEVENT
DTSTART;TZID=America/New_York:20260619T080000
DTEND;TZID=America/New_York:20260619T170000
DTSTAMP:20260420T040325
CREATED:20250812T165919Z
LAST-MODIFIED:20250812T165919Z
UID:10000063-1781856000-1781888400@lancasterctc.edu
SUMMARY:Holiday - Juneteenth
DESCRIPTION:
URL:https://lancasterctc.edu/calendar-events/holiday-juneteenth/
LOCATION:PA
CATEGORIES:High School,Practical Nursing
END:VEVENT
BEGIN:VEVENT
DTSTART;TZID=America/New_York:20260714T170000
DTEND;TZID=America/New_York:20260714T190000
DTSTAMP:20260420T040325
CREATED:20250708T184624Z
LAST-MODIFIED:20250708T184624Z
UID:10000035-1784048400-1784055600@lancasterctc.edu
SUMMARY:Practical Nursing Open House
DESCRIPTION:
URL:https://lancasterctc.edu/calendar-events/practical-nursing-open-house-6-2/
LOCATION:Health Sciences Campus\, 422 Beaver Valley Pike\, Willow Street\, PA\, 17584\, United States
CATEGORIES:Practical Nursing
END:VEVENT
BEGIN:VEVENT
DTSTART;TZID=America/New_York:20260818T080000
DTEND;TZID=America/New_York:20260818T170000
DTSTAMP:20260420T040325
CREATED:20260302T180109Z
LAST-MODIFIED:20260302T180109Z
UID:10000091-1787040000-1787072400@lancasterctc.edu
SUMMARY:In-Service - Institutional
DESCRIPTION:
URL:https://lancasterctc.edu/calendar-events/in-service-institutional-2/
LOCATION:PA
CATEGORIES:High School,Higher Education,Practical Nursing
END:VEVENT
BEGIN:VEVENT
DTSTART;TZID=America/New_York:20261110T170000
DTEND;TZID=America/New_York:20261110T190000
DTSTAMP:20260420T040325
CREATED:20250708T184442Z
LAST-MODIFIED:20250708T184442Z
UID:10000037-1794330000-1794337200@lancasterctc.edu
SUMMARY:Practical Nursing Open House
DESCRIPTION:
URL:https://lancasterctc.edu/calendar-events/practical-nursing-open-house-6/2026-11-10/
LOCATION:Health Sciences Campus\, 422 Beaver Valley Pike\, Willow Street\, PA\, 17584\, United States
CATEGORIES:Practical Nursing
END:VEVENT
BEGIN:VEVENT
DTSTART;TZID=America/New_York:20270209T170000
DTEND;TZID=America/New_York:20270209T190000
DTSTAMP:20260420T040325
CREATED:20250708T184442Z
LAST-MODIFIED:20250708T184442Z
UID:10000038-1802192400-1802199600@lancasterctc.edu
SUMMARY:Practical Nursing Open House
DESCRIPTION:
URL:https://lancasterctc.edu/calendar-events/practical-nursing-open-house-6/2027-02-09/
LOCATION:Health Sciences Campus\, 422 Beaver Valley Pike\, Willow Street\, PA\, 17584\, United States
CATEGORIES:Practical Nursing
END:VEVENT
BEGIN:VEVENT
DTSTART;TZID=America/New_York:20270511T170000
DTEND;TZID=America/New_York:20270511T190000
DTSTAMP:20260420T040325
CREATED:20250708T184442Z
LAST-MODIFIED:20250708T184442Z
UID:10000039-1810054800-1810062000@lancasterctc.edu
SUMMARY:Practical Nursing Open House
DESCRIPTION:
URL:https://lancasterctc.edu/calendar-events/practical-nursing-open-house-6/2027-05-11/
LOCATION:Health Sciences Campus\, 422 Beaver Valley Pike\, Willow Street\, PA\, 17584\, United States
CATEGORIES:Practical Nursing
END:VEVENT
BEGIN:VEVENT
DTSTART;TZID=America/New_York:20270602T080000
DTEND;TZID=America/New_York:20270602T170000
DTSTAMP:20260420T040325
CREATED:20260302T182111Z
LAST-MODIFIED:20260302T182111Z
UID:10000127-1811923200-1811955600@lancasterctc.edu
SUMMARY:In-Service - Institutional
DESCRIPTION:
URL:https://lancasterctc.edu/calendar-events/in-service-institutional-3/
LOCATION:PA
CATEGORIES:High School,Higher Education,Practical Nursing
END:VEVENT
BEGIN:VEVENT
DTSTART;TZID=America/New_York:20270810T170000
DTEND;TZID=America/New_York:20270810T190000
DTSTAMP:20260420T040325
CREATED:20250708T184442Z
LAST-MODIFIED:20250708T184442Z
UID:10000040-1817917200-1817924400@lancasterctc.edu
SUMMARY:Practical Nursing Open House
DESCRIPTION:
URL:https://lancasterctc.edu/calendar-events/practical-nursing-open-house-6/2027-08-10/
LOCATION:Health Sciences Campus\, 422 Beaver Valley Pike\, Willow Street\, PA\, 17584\, United States
CATEGORIES:Practical Nursing
END:VEVENT
BEGIN:VEVENT
DTSTART;TZID=America/New_York:20271109T170000
DTEND;TZID=America/New_York:20271109T190000
DTSTAMP:20260420T040325
CREATED:20250708T184442Z
LAST-MODIFIED:20250708T184442Z
UID:10000041-1825779600-1825786800@lancasterctc.edu
SUMMARY:Practical Nursing Open House
DESCRIPTION:
URL:https://lancasterctc.edu/calendar-events/practical-nursing-open-house-6/2027-11-09/
LOCATION:Health Sciences Campus\, 422 Beaver Valley Pike\, Willow Street\, PA\, 17584\, United States
CATEGORIES:Practical Nursing
END:VEVENT
BEGIN:VEVENT
DTSTART;TZID=America/New_York:20280208T170000
DTEND;TZID=America/New_York:20280208T190000
DTSTAMP:20260420T040325
CREATED:20250708T184442Z
LAST-MODIFIED:20250708T184442Z
UID:10000042-1833642000-1833649200@lancasterctc.edu
SUMMARY:Practical Nursing Open House
DESCRIPTION:
URL:https://lancasterctc.edu/calendar-events/practical-nursing-open-house-6/2028-02-08/
LOCATION:Health Sciences Campus\, 422 Beaver Valley Pike\, Willow Street\, PA\, 17584\, United States
CATEGORIES:Practical Nursing
END:VEVENT
BEGIN:VEVENT
DTSTART;TZID=America/New_York:20280509T170000
DTEND;TZID=America/New_York:20280509T190000
DTSTAMP:20260420T040325
CREATED:20250708T184442Z
LAST-MODIFIED:20250708T184442Z
UID:10000043-1841504400-1841511600@lancasterctc.edu
SUMMARY:Practical Nursing Open House
DESCRIPTION:
URL:https://lancasterctc.edu/calendar-events/practical-nursing-open-house-6/2028-05-09/
LOCATION:Health Sciences Campus\, 422 Beaver Valley Pike\, Willow Street\, PA\, 17584\, United States
CATEGORIES:Practical Nursing
END:VEVENT
BEGIN:VEVENT
DTSTART;TZID=America/New_York:20280808T170000
DTEND;TZID=America/New_York:20280808T190000
DTSTAMP:20260420T040325
CREATED:20250708T184442Z
LAST-MODIFIED:20250708T184442Z
UID:10000044-1849366800-1849374000@lancasterctc.edu
SUMMARY:Practical Nursing Open House
DESCRIPTION:
URL:https://lancasterctc.edu/calendar-events/practical-nursing-open-house-6/2028-08-08/
LOCATION:Health Sciences Campus\, 422 Beaver Valley Pike\, Willow Street\, PA\, 17584\, United States
CATEGORIES:Practical Nursing
END:VEVENT
BEGIN:VEVENT
DTSTART;TZID=America/New_York:20281114T170000
DTEND;TZID=America/New_York:20281114T190000
DTSTAMP:20260420T040325
CREATED:20250708T184442Z
LAST-MODIFIED:20250708T184442Z
UID:10000045-1857834000-1857841200@lancasterctc.edu
SUMMARY:Practical Nursing Open House
DESCRIPTION:
URL:https://lancasterctc.edu/calendar-events/practical-nursing-open-house-6/2028-11-14/
LOCATION:Health Sciences Campus\, 422 Beaver Valley Pike\, Willow Street\, PA\, 17584\, United States
CATEGORIES:Practical Nursing
END:VEVENT
BEGIN:VEVENT
DTSTART;TZID=America/New_York:20290213T170000
DTEND;TZID=America/New_York:20290213T190000
DTSTAMP:20260420T040326
CREATED:20250708T184442Z
LAST-MODIFIED:20250708T184442Z
UID:10000046-1865696400-1865703600@lancasterctc.edu
SUMMARY:Practical Nursing Open House
DESCRIPTION:
URL:https://lancasterctc.edu/calendar-events/practical-nursing-open-house-6/2029-02-13/
LOCATION:Health Sciences Campus\, 422 Beaver Valley Pike\, Willow Street\, PA\, 17584\, United States
CATEGORIES:Practical Nursing
END:VEVENT
BEGIN:VEVENT
DTSTART;TZID=America/New_York:20290508T170000
DTEND;TZID=America/New_York:20290508T190000
DTSTAMP:20260420T040326
CREATED:20250708T184442Z
LAST-MODIFIED:20250708T184442Z
UID:10000047-1872954000-1872961200@lancasterctc.edu
SUMMARY:Practical Nursing Open House
DESCRIPTION:
URL:https://lancasterctc.edu/calendar-events/practical-nursing-open-house-6/2029-05-08/
LOCATION:Health Sciences Campus\, 422 Beaver Valley Pike\, Willow Street\, PA\, 17584\, United States
CATEGORIES:Practical Nursing
END:VEVENT
BEGIN:VEVENT
DTSTART;TZID=America/New_York:20290814T170000
DTEND;TZID=America/New_York:20290814T190000
DTSTAMP:20260420T040326
CREATED:20250708T184442Z
LAST-MODIFIED:20250708T184442Z
UID:10000048-1881421200-1881428400@lancasterctc.edu
SUMMARY:Practical Nursing Open House
DESCRIPTION:
URL:https://lancasterctc.edu/calendar-events/practical-nursing-open-house-6/2029-08-14/
LOCATION:Health Sciences Campus\, 422 Beaver Valley Pike\, Willow Street\, PA\, 17584\, United States
CATEGORIES:Practical Nursing
END:VEVENT
BEGIN:VEVENT
DTSTART;TZID=America/New_York:20291113T170000
DTEND;TZID=America/New_York:20291113T190000
DTSTAMP:20260420T040326
CREATED:20250708T184442Z
LAST-MODIFIED:20250708T184442Z
UID:10000049-1889283600-1889290800@lancasterctc.edu
SUMMARY:Practical Nursing Open House
DESCRIPTION:
URL:https://lancasterctc.edu/calendar-events/practical-nursing-open-house-6/2029-11-13/
LOCATION:Health Sciences Campus\, 422 Beaver Valley Pike\, Willow Street\, PA\, 17584\, United States
CATEGORIES:Practical Nursing
END:VEVENT
BEGIN:VEVENT
DTSTART;TZID=America/New_York:20300212T170000
DTEND;TZID=America/New_York:20300212T190000
DTSTAMP:20260420T040326
CREATED:20250708T184442Z
LAST-MODIFIED:20250708T184442Z
UID:10000050-1897146000-1897153200@lancasterctc.edu
SUMMARY:Practical Nursing Open House
DESCRIPTION:
URL:https://lancasterctc.edu/calendar-events/practical-nursing-open-house-6/2030-02-12/
LOCATION:Health Sciences Campus\, 422 Beaver Valley Pike\, Willow Street\, PA\, 17584\, United States
CATEGORIES:Practical Nursing
END:VEVENT
BEGIN:VEVENT
DTSTART;TZID=America/New_York:20300514T170000
DTEND;TZID=America/New_York:20300514T190000
DTSTAMP:20260420T040326
CREATED:20250708T184442Z
LAST-MODIFIED:20250708T184442Z
UID:10000051-1905008400-1905015600@lancasterctc.edu
SUMMARY:Practical Nursing Open House
DESCRIPTION:
URL:https://lancasterctc.edu/calendar-events/practical-nursing-open-house-6/2030-05-14/
LOCATION:Health Sciences Campus\, 422 Beaver Valley Pike\, Willow Street\, PA\, 17584\, United States
CATEGORIES:Practical Nursing
END:VEVENT
END:VCALENDAR