BEGIN:VCALENDAR
VERSION:2.0
PRODID:-//Lancaster County Career &amp; Technology Center - ECPv6.15.20//NONSGML v1.0//EN
CALSCALE:GREGORIAN
METHOD:PUBLISH
X-WR-CALNAME:Lancaster County Career &amp; Technology Center
X-ORIGINAL-URL:https://lancasterctc.edu
X-WR-CALDESC:Events for Lancaster County Career &amp; Technology Center
REFRESH-INTERVAL;VALUE=DURATION:PT1H
X-Robots-Tag:noindex
X-PUBLISHED-TTL:PT1H
BEGIN:VTIMEZONE
TZID:America/New_York
BEGIN:DAYLIGHT
TZOFFSETFROM:-0500
TZOFFSETTO:-0400
TZNAME:EDT
DTSTART:20280312T070000
END:DAYLIGHT
BEGIN:STANDARD
TZOFFSETFROM:-0400
TZOFFSETTO:-0500
TZNAME:EST
DTSTART:20281105T060000
END:STANDARD
BEGIN:DAYLIGHT
TZOFFSETFROM:-0500
TZOFFSETTO:-0400
TZNAME:EDT
DTSTART:20290311T070000
END:DAYLIGHT
BEGIN:STANDARD
TZOFFSETFROM:-0400
TZOFFSETTO:-0500
TZNAME:EST
DTSTART:20291104T060000
END:STANDARD
BEGIN:DAYLIGHT
TZOFFSETFROM:-0500
TZOFFSETTO:-0400
TZNAME:EDT
DTSTART:20300310T070000
END:DAYLIGHT
BEGIN:STANDARD
TZOFFSETFROM:-0400
TZOFFSETTO:-0500
TZNAME:EST
DTSTART:20301103T060000
END:STANDARD
BEGIN:DAYLIGHT
TZOFFSETFROM:-0500
TZOFFSETTO:-0400
TZNAME:EDT
DTSTART:20310309T070000
END:DAYLIGHT
BEGIN:STANDARD
TZOFFSETFROM:-0400
TZOFFSETTO:-0500
TZNAME:EST
DTSTART:20311102T060000
END:STANDARD
END:VTIMEZONE
BEGIN:VEVENT
DTSTART;TZID=America/New_York:20290213T170000
DTEND;TZID=America/New_York:20290213T190000
DTSTAMP:20260419T145525
CREATED:20250708T184442Z
LAST-MODIFIED:20250708T184442Z
UID:10000046-1865696400-1865703600@lancasterctc.edu
SUMMARY:Practical Nursing Open House
DESCRIPTION:
URL:https://lancasterctc.edu/calendar-events/practical-nursing-open-house-6/2029-02-13/
LOCATION:Health Sciences Campus\, 422 Beaver Valley Pike\, Willow Street\, PA\, 17584\, United States
CATEGORIES:Practical Nursing
END:VEVENT
BEGIN:VEVENT
DTSTART;TZID=America/New_York:20290508T170000
DTEND;TZID=America/New_York:20290508T190000
DTSTAMP:20260419T145525
CREATED:20250708T184442Z
LAST-MODIFIED:20250708T184442Z
UID:10000047-1872954000-1872961200@lancasterctc.edu
SUMMARY:Practical Nursing Open House
DESCRIPTION:
URL:https://lancasterctc.edu/calendar-events/practical-nursing-open-house-6/2029-05-08/
LOCATION:Health Sciences Campus\, 422 Beaver Valley Pike\, Willow Street\, PA\, 17584\, United States
CATEGORIES:Practical Nursing
END:VEVENT
BEGIN:VEVENT
DTSTART;TZID=America/New_York:20290814T170000
DTEND;TZID=America/New_York:20290814T190000
DTSTAMP:20260419T145525
CREATED:20250708T184442Z
LAST-MODIFIED:20250708T184442Z
UID:10000048-1881421200-1881428400@lancasterctc.edu
SUMMARY:Practical Nursing Open House
DESCRIPTION:
URL:https://lancasterctc.edu/calendar-events/practical-nursing-open-house-6/2029-08-14/
LOCATION:Health Sciences Campus\, 422 Beaver Valley Pike\, Willow Street\, PA\, 17584\, United States
CATEGORIES:Practical Nursing
END:VEVENT
BEGIN:VEVENT
DTSTART;TZID=America/New_York:20291113T170000
DTEND;TZID=America/New_York:20291113T190000
DTSTAMP:20260419T145525
CREATED:20250708T184442Z
LAST-MODIFIED:20250708T184442Z
UID:10000049-1889283600-1889290800@lancasterctc.edu
SUMMARY:Practical Nursing Open House
DESCRIPTION:
URL:https://lancasterctc.edu/calendar-events/practical-nursing-open-house-6/2029-11-13/
LOCATION:Health Sciences Campus\, 422 Beaver Valley Pike\, Willow Street\, PA\, 17584\, United States
CATEGORIES:Practical Nursing
END:VEVENT
BEGIN:VEVENT
DTSTART;TZID=America/New_York:20300212T170000
DTEND;TZID=America/New_York:20300212T190000
DTSTAMP:20260419T145525
CREATED:20250708T184442Z
LAST-MODIFIED:20250708T184442Z
UID:10000050-1897146000-1897153200@lancasterctc.edu
SUMMARY:Practical Nursing Open House
DESCRIPTION:
URL:https://lancasterctc.edu/calendar-events/practical-nursing-open-house-6/2030-02-12/
LOCATION:Health Sciences Campus\, 422 Beaver Valley Pike\, Willow Street\, PA\, 17584\, United States
CATEGORIES:Practical Nursing
END:VEVENT
BEGIN:VEVENT
DTSTART;TZID=America/New_York:20300514T170000
DTEND;TZID=America/New_York:20300514T190000
DTSTAMP:20260419T145525
CREATED:20250708T184442Z
LAST-MODIFIED:20250708T184442Z
UID:10000051-1905008400-1905015600@lancasterctc.edu
SUMMARY:Practical Nursing Open House
DESCRIPTION:
URL:https://lancasterctc.edu/calendar-events/practical-nursing-open-house-6/2030-05-14/
LOCATION:Health Sciences Campus\, 422 Beaver Valley Pike\, Willow Street\, PA\, 17584\, United States
CATEGORIES:Practical Nursing
END:VEVENT
END:VCALENDAR