BEGIN:VCALENDAR
VERSION:2.0
PRODID:-//Lancaster County Career &amp; Technology Center - ECPv6.15.20//NONSGML v1.0//EN
CALSCALE:GREGORIAN
METHOD:PUBLISH
X-ORIGINAL-URL:https://lancasterctc.edu
X-WR-CALDESC:Events for Lancaster County Career &amp; Technology Center
REFRESH-INTERVAL;VALUE=DURATION:PT1H
X-Robots-Tag:noindex
X-PUBLISHED-TTL:PT1H
BEGIN:VTIMEZONE
TZID:America/New_York
BEGIN:DAYLIGHT
TZOFFSETFROM:-0500
TZOFFSETTO:-0400
TZNAME:EDT
DTSTART:20240310T070000
END:DAYLIGHT
BEGIN:STANDARD
TZOFFSETFROM:-0400
TZOFFSETTO:-0500
TZNAME:EST
DTSTART:20241103T060000
END:STANDARD
BEGIN:DAYLIGHT
TZOFFSETFROM:-0500
TZOFFSETTO:-0400
TZNAME:EDT
DTSTART:20250309T070000
END:DAYLIGHT
BEGIN:STANDARD
TZOFFSETFROM:-0400
TZOFFSETTO:-0500
TZNAME:EST
DTSTART:20251102T060000
END:STANDARD
BEGIN:DAYLIGHT
TZOFFSETFROM:-0500
TZOFFSETTO:-0400
TZNAME:EDT
DTSTART:20260308T070000
END:DAYLIGHT
BEGIN:STANDARD
TZOFFSETFROM:-0400
TZOFFSETTO:-0500
TZNAME:EST
DTSTART:20261101T060000
END:STANDARD
END:VTIMEZONE
BEGIN:VEVENT
DTSTART;TZID=America/New_York:20250507T080000
DTEND;TZID=America/New_York:20250507T170000
DTSTAMP:20260419T233619
CREATED:20240807T165529Z
LAST-MODIFIED:20240807T165529Z
UID:10000025-1746604800-1746637200@lancasterctc.edu
SUMMARY:In-Service\, Practical Nursing
DESCRIPTION:
URL:https://lancasterctc.edu/calendar-events/in-service-practical-nursing-2/
CATEGORIES:Practical Nursing
END:VEVENT
BEGIN:VEVENT
DTSTART;TZID=America/New_York:20250513T170000
DTEND;TZID=America/New_York:20250513T190000
DTSTAMP:20260419T233619
CREATED:20241101T195534Z
LAST-MODIFIED:20241101T195600Z
UID:10000030-1747155600-1747162800@lancasterctc.edu
SUMMARY:Practical Nursing Open House
DESCRIPTION:
URL:https://lancasterctc.edu/calendar-events/practical-nursing-open-house-5/
LOCATION:Health Sciences Campus\, 422 Beaver Valley Pike\, Willow Street\, PA\, 17584\, United States
CATEGORIES:Practical Nursing
END:VEVENT
BEGIN:VEVENT
DTSTART;TZID=America/New_York:20250526T080000
DTEND;TZID=America/New_York:20250526T170000
DTSTAMP:20260419T233619
CREATED:20240807T164814Z
LAST-MODIFIED:20250423T182955Z
UID:10000017-1748246400-1748278800@lancasterctc.edu
SUMMARY:Memorial Day
DESCRIPTION:All programs and offices closed
URL:https://lancasterctc.edu/calendar-events/memorial-day/
CATEGORIES:High School,Higher Education,Practical Nursing
END:VEVENT
BEGIN:VEVENT
DTSTART;TZID=America/New_York:20250530T080000
DTEND;TZID=America/New_York:20250530T170000
DTSTAMP:20260419T233619
CREATED:20240807T164948Z
LAST-MODIFIED:20240807T164948Z
UID:10000020-1748592000-1748624400@lancasterctc.edu
SUMMARY:In-service\, Institutional
DESCRIPTION:
URL:https://lancasterctc.edu/calendar-events/in-service-institutional/
CATEGORIES:High School,Higher Education,Practical Nursing
END:VEVENT
END:VCALENDAR