BEGIN:VCALENDAR
VERSION:2.0
PRODID:-//Lancaster County Career &amp; Technology Center - ECPv6.15.20//NONSGML v1.0//EN
CALSCALE:GREGORIAN
METHOD:PUBLISH
X-WR-CALNAME:Lancaster County Career &amp; Technology Center
X-ORIGINAL-URL:https://lancasterctc.edu
X-WR-CALDESC:Events for Lancaster County Career &amp; Technology Center
REFRESH-INTERVAL;VALUE=DURATION:PT1H
X-Robots-Tag:noindex
X-PUBLISHED-TTL:PT1H
BEGIN:VTIMEZONE
TZID:America/New_York
BEGIN:DAYLIGHT
TZOFFSETFROM:-0500
TZOFFSETTO:-0400
TZNAME:EDT
DTSTART:20230312T070000
END:DAYLIGHT
BEGIN:STANDARD
TZOFFSETFROM:-0400
TZOFFSETTO:-0500
TZNAME:EST
DTSTART:20231105T060000
END:STANDARD
BEGIN:DAYLIGHT
TZOFFSETFROM:-0500
TZOFFSETTO:-0400
TZNAME:EDT
DTSTART:20240310T070000
END:DAYLIGHT
BEGIN:STANDARD
TZOFFSETFROM:-0400
TZOFFSETTO:-0500
TZNAME:EST
DTSTART:20241103T060000
END:STANDARD
BEGIN:DAYLIGHT
TZOFFSETFROM:-0500
TZOFFSETTO:-0400
TZNAME:EDT
DTSTART:20250309T070000
END:DAYLIGHT
BEGIN:STANDARD
TZOFFSETFROM:-0400
TZOFFSETTO:-0500
TZNAME:EST
DTSTART:20251102T060000
END:STANDARD
END:VTIMEZONE
BEGIN:VEVENT
DTSTART;TZID=America/New_York:20241127T080000
DTEND;TZID=America/New_York:20241127T170000
DTSTAMP:20260419T134231
CREATED:20240807T164114Z
LAST-MODIFIED:20240807T164114Z
UID:10000009-1732694400-1732726800@lancasterctc.edu
SUMMARY:In-service\, Secondary
DESCRIPTION:High School Programs Closed\, Offices Open
URL:https://lancasterctc.edu/calendar-events/in-service-secondary/
CATEGORIES:High School
END:VEVENT
BEGIN:VEVENT
DTSTART;TZID=America/New_York:20241128T080000
DTEND;TZID=America/New_York:20241202T170000
DTSTAMP:20260419T134231
CREATED:20240807T164301Z
LAST-MODIFIED:20240807T164306Z
UID:10000010-1732780800-1733158800@lancasterctc.edu
SUMMARY:Thanksgiving Break
DESCRIPTION:All programs and offices closed
URL:https://lancasterctc.edu/calendar-events/thanksgiving-break/
CATEGORIES:High School,Higher Education,Practical Nursing
END:VEVENT
END:VCALENDAR